BEGIN:VCALENDAR
VERSION:2.0
PRODID:-//Jericho Road Pasadena - ECPv6.15.20//NONSGML v1.0//EN
CALSCALE:GREGORIAN
METHOD:PUBLISH
X-ORIGINAL-URL:https://jrpasadena.org
X-WR-CALDESC:Events for Jericho Road Pasadena
REFRESH-INTERVAL;VALUE=DURATION:PT1H
X-Robots-Tag:noindex
X-PUBLISHED-TTL:PT1H
BEGIN:VTIMEZONE
TZID:America/Los_Angeles
BEGIN:DAYLIGHT
TZOFFSETFROM:-0800
TZOFFSETTO:-0700
TZNAME:PDT
DTSTART:20250309T100000
END:DAYLIGHT
BEGIN:STANDARD
TZOFFSETFROM:-0700
TZOFFSETTO:-0800
TZNAME:PST
DTSTART:20251102T090000
END:STANDARD
BEGIN:DAYLIGHT
TZOFFSETFROM:-0800
TZOFFSETTO:-0700
TZNAME:PDT
DTSTART:20260308T100000
END:DAYLIGHT
BEGIN:STANDARD
TZOFFSETFROM:-0700
TZOFFSETTO:-0800
TZNAME:PST
DTSTART:20261101T090000
END:STANDARD
BEGIN:DAYLIGHT
TZOFFSETFROM:-0800
TZOFFSETTO:-0700
TZNAME:PDT
DTSTART:20270314T100000
END:DAYLIGHT
BEGIN:STANDARD
TZOFFSETFROM:-0700
TZOFFSETTO:-0800
TZNAME:PST
DTSTART:20271107T090000
END:STANDARD
END:VTIMEZONE
BEGIN:VEVENT
DTSTART;TZID=America/Los_Angeles:20260416T120000
DTEND;TZID=America/Los_Angeles:20260416T130000
DTSTAMP:20260423T091036
CREATED:20260324T192308Z
LAST-MODIFIED:20260331T001657Z
UID:15450-1776340800-1776344400@jrpasadena.org
SUMMARY:Breath Is Life: Reclaiming Vitality Together (virtual)
DESCRIPTION:If you work in nonprofits or community spaces and have been holding the heartbreak of wildfires\, political violence\, and ongoing collective crises\, this space is for you. Practicing Joy in Times of Crisis is a series of 10 community gatherings\, five virtual and five in-person\, designed to help you reconnect with joy and hope as intentional practices. \n\n\n\nThis series is presented in partnership with A Thousand Joys. \n\n\n\nThese gatherings are not about bypassing pain. Joy includes our grief. It includes our exhaustion. It includes our rage. Together\, through movement\, music\, restorative practices\, reflection\, and community dialogue\, we will reset our nervous systems and replenish our spirits. When we care for ourselves\, we strengthen our capacity to show up for the people and communities who rely on us. Sustainable service requires sustainable self-care. \n\n\n\nCultivating joy is not indulgent. It is how we stay steady in the work. \n\n\n\nEach session will center a different theme\, from nervous system reset\, to grief and joy\, to rest and release\, to hope as resistance. Some gatherings will focus on restorative and gentle practices. Others may invite music\, creative expression\, movement\, or even play. Every gathering will include grounding\, reflection\, embodied practice\, and meaningful connection. You can attend one or join many. Each session stands alone while also building toward a deeper sense of collective resilience over time. \n\n\n\nDrop in whenever you can. Come as you are. \n\n\n\nAbout A Thousand Joys \n\n\n\nA Thousand Joys is a California-based nonprofit that works with nonprofit staff\, educators\, and service providers to build resilience in high-stress\, service-oriented roles. Their work integrates mental health\, somatic practices\, and leadership development to help individuals and organizations sustain themselves while supporting their communities. \n\n\n\nYour Facilitator \n\n\n\nOur first two gatherings will be facilitated by Hala Khouri\, ATJ’s lead trainer. She is a trauma-informed somatic educator\, yoga teacher\, and longtime trainer of social justice leaders and helping professionals. With over two decades of experience integrating mindfulness\, somatics\, and anti-oppression work\, Hala brings a grounded\, compassionate\, and deeply embodied approach to collective healing. Her work centers resilience without denying reality\, creating spaces that are both brave and restorative.Our first gathering is an invitation to return to the most essential rhythm we share; the breath. In times of crisis\, our bodies tighten\, brace\, and carry more than they were meant to hold alone. Breath brings us back. Community helps us stay. \n\n\n\n\n\n\n\nIn this opening session\, we’ll explore how joy and grief coexist in the body\, and how intentional breathing and gentle movement can help us reconnect to vitality\, hope\, and one another. This is not about forcing positivity. It’s about creating space for what’s real\, while remembering that aliveness is still available. \n\n\n\nYou’ll leave feeling more grounded\, more connected\, and more resourced than when you arrived. \n\n\n\nCome as you are. Heavy-hearted\, exhausted\, curious\, or ready to move\, there is room for all of it.
URL:https://jrpasadena.org/event/breath-is-life-reclaiming-vitality-together-breathwork-workshop/
ATTACH;FMTTYPE=image/png:https://jrpasadena.org/wp-content/uploads/2026/03/Jericho-Road_Carousel.avif
END:VEVENT
END:VCALENDAR