BEGIN:VCALENDAR
VERSION:2.0
PRODID:-//Jericho Road Pasadena - ECPv6.15.20//NONSGML v1.0//EN
CALSCALE:GREGORIAN
METHOD:PUBLISH
X-ORIGINAL-URL:https://jrpasadena.org
X-WR-CALDESC:Events for Jericho Road Pasadena
REFRESH-INTERVAL;VALUE=DURATION:PT1H
X-Robots-Tag:noindex
X-PUBLISHED-TTL:PT1H
BEGIN:VTIMEZONE
TZID:America/Los_Angeles
BEGIN:DAYLIGHT
TZOFFSETFROM:-0800
TZOFFSETTO:-0700
TZNAME:PDT
DTSTART:20250309T100000
END:DAYLIGHT
BEGIN:STANDARD
TZOFFSETFROM:-0700
TZOFFSETTO:-0800
TZNAME:PST
DTSTART:20251102T090000
END:STANDARD
BEGIN:DAYLIGHT
TZOFFSETFROM:-0800
TZOFFSETTO:-0700
TZNAME:PDT
DTSTART:20260308T100000
END:DAYLIGHT
BEGIN:STANDARD
TZOFFSETFROM:-0700
TZOFFSETTO:-0800
TZNAME:PST
DTSTART:20261101T090000
END:STANDARD
BEGIN:DAYLIGHT
TZOFFSETFROM:-0800
TZOFFSETTO:-0700
TZNAME:PDT
DTSTART:20270314T100000
END:DAYLIGHT
BEGIN:STANDARD
TZOFFSETFROM:-0700
TZOFFSETTO:-0800
TZNAME:PST
DTSTART:20271107T090000
END:STANDARD
END:VTIMEZONE
BEGIN:VEVENT
DTSTART;TZID=America/Los_Angeles:20260421T170000
DTEND;TZID=America/Los_Angeles:20260421T180000
DTSTAMP:20260423T091023
CREATED:20260414T193647Z
LAST-MODIFIED:20260414T193648Z
UID:15593-1776790800-1776794400@jrpasadena.org
SUMMARY:Healing Together After the Fires
DESCRIPTION:Open Support Group for Nonprofit Staff in Wildfire Relief Work \n\n\n\n\n\n\n\nIf your nonprofit work regarding the Eaton or Palisades fires has left you feeling overwhelmed\, unsettled\, or changed\, you are not alone. This monthly trauma-informed drop-in support group for nonprofit staff offers a calm\, supportive space for anyone impacted by wildfire relief work to slow down\, breathe\, and tend to what remains. \n\n\n\nEach gathering is intentionally paced and grounded\, offering simple tools to help regulate the nervous system\, gentle education about trauma responses\, and space to share\, only if and when you choose. The focus is on safety\, connection\, and practical ways to support yourself in the midst of ongoing recovery. \n\n\n\nThe group is facilitated by David Washington\, LCSW\, founder of The Planted Brain\, Inc. With over 12 years of experience in mental health and more than 8 years leading therapy groups\, David brings a steady\, compassionate presence rooted in trauma-informed care. \n\n\n\nYou are welcome to come as you are. No prior experience is needed. \n\n\n\nThis registration is for one open drop-in support group for nonprofit staff affected by wildfire recovery work. This is a once a month\, for 10 months recurring group.  \n\n\n\n\nApril 21\, 2026\n\n\n\nMay 19\, 2026\n\n\n\nJune 16\, 2026\n\n\n\nJuly 21\, 2026\n\n\n\nAugust 18\, 2026\n\n\n\nSeptember 15\, 2026\n\n\n\nOctober 20\, 2026\n\n\n\nNovember 17\, 2026(rest in 2027 and 2028)
URL:https://jrpasadena.org/event/supportgroupsfornonprofitstaffinwildfirerecoverywork/
ATTACH;FMTTYPE=image/jpeg:https://jrpasadena.org/wp-content/uploads/2026/04/Open-Support-Group-1-1.avif
END:VEVENT
END:VCALENDAR