BEGIN:VCALENDAR
VERSION:2.0
PRODID:-//Jericho Road Pasadena - ECPv6.15.20//NONSGML v1.0//EN
CALSCALE:GREGORIAN
METHOD:PUBLISH
X-ORIGINAL-URL:https://jrpasadena.org
X-WR-CALDESC:Events for Jericho Road Pasadena
REFRESH-INTERVAL;VALUE=DURATION:PT1H
X-Robots-Tag:noindex
X-PUBLISHED-TTL:PT1H
BEGIN:VTIMEZONE
TZID:America/Los_Angeles
BEGIN:DAYLIGHT
TZOFFSETFROM:-0800
TZOFFSETTO:-0700
TZNAME:PDT
DTSTART:20250309T100000
END:DAYLIGHT
BEGIN:STANDARD
TZOFFSETFROM:-0700
TZOFFSETTO:-0800
TZNAME:PST
DTSTART:20251102T090000
END:STANDARD
BEGIN:DAYLIGHT
TZOFFSETFROM:-0800
TZOFFSETTO:-0700
TZNAME:PDT
DTSTART:20260308T100000
END:DAYLIGHT
BEGIN:STANDARD
TZOFFSETFROM:-0700
TZOFFSETTO:-0800
TZNAME:PST
DTSTART:20261101T090000
END:STANDARD
BEGIN:DAYLIGHT
TZOFFSETFROM:-0800
TZOFFSETTO:-0700
TZNAME:PDT
DTSTART:20270314T100000
END:DAYLIGHT
BEGIN:STANDARD
TZOFFSETFROM:-0700
TZOFFSETTO:-0800
TZNAME:PST
DTSTART:20271107T090000
END:STANDARD
END:VTIMEZONE
BEGIN:VEVENT
DTSTART;TZID=America/Los_Angeles:20260529T080000
DTEND;TZID=America/Los_Angeles:20260529T093000
DTSTAMP:20260423T160709
CREATED:20260331T001109Z
LAST-MODIFIED:20260331T001110Z
UID:15517-1780041600-1780047000@jrpasadena.org
SUMMARY:Nonprofit Coffee Hour at Rosebud Coffee in Pasadena
DESCRIPTION:Recurring monthly\, last Friday of the month  \n\n\n\nThe morning mixer will provide a relaxed space for nonprofit staff and leaders to connect over coffee\, with the intention of encouraging collaboration. By establishing a consistent meeting point for nonprofit professionals\, Jericho Road Pasadena and E-Central Credit Union hope to build a well-connected nonprofit community in the Pasadena region. Nonprofit staff and community partners are encouraged to attend and bring a colleague from another organization.
URL:https://jrpasadena.org/event/nonprofit-coffee-hour-at-rosebud-coffee-in-pasadena-2/
ATTACH;FMTTYPE=application/pdf:https://jrpasadena.org/wp-content/uploads/2026/03/LAST-FRIDAY-OF-EVERY-MONTH-8-930-AM-4.pdf
END:VEVENT
END:VCALENDAR