BEGIN:VCALENDAR
VERSION:2.0
PRODID:-//Jericho Road Pasadena - ECPv6.15.20//NONSGML v1.0//EN
CALSCALE:GREGORIAN
METHOD:PUBLISH
X-WR-CALNAME:Jericho Road Pasadena
X-ORIGINAL-URL:https://jrpasadena.org
X-WR-CALDESC:Events for Jericho Road Pasadena
REFRESH-INTERVAL;VALUE=DURATION:PT1H
X-Robots-Tag:noindex
X-PUBLISHED-TTL:PT1H
BEGIN:VTIMEZONE
TZID:America/Los_Angeles
BEGIN:DAYLIGHT
TZOFFSETFROM:-0800
TZOFFSETTO:-0700
TZNAME:PDT
DTSTART:20250309T100000
END:DAYLIGHT
BEGIN:STANDARD
TZOFFSETFROM:-0700
TZOFFSETTO:-0800
TZNAME:PST
DTSTART:20251102T090000
END:STANDARD
BEGIN:DAYLIGHT
TZOFFSETFROM:-0800
TZOFFSETTO:-0700
TZNAME:PDT
DTSTART:20260308T100000
END:DAYLIGHT
BEGIN:STANDARD
TZOFFSETFROM:-0700
TZOFFSETTO:-0800
TZNAME:PST
DTSTART:20261101T090000
END:STANDARD
BEGIN:DAYLIGHT
TZOFFSETFROM:-0800
TZOFFSETTO:-0700
TZNAME:PDT
DTSTART:20270314T100000
END:DAYLIGHT
BEGIN:STANDARD
TZOFFSETFROM:-0700
TZOFFSETTO:-0800
TZNAME:PST
DTSTART:20271107T090000
END:STANDARD
END:VTIMEZONE
BEGIN:VEVENT
DTSTART;TZID=America/Los_Angeles:20260312T083000
DTEND;TZID=America/Los_Angeles:20260312T100000
DTSTAMP:20260423T163331
CREATED:20250827T213927Z
LAST-MODIFIED:20260227T184113Z
UID:15049-1773304200-1773309600@jrpasadena.org
SUMMARY:PERT March Meeting: Let's Talk about AI
DESCRIPTION:The Pasadena Executive Roundtable (PERT) is a monthly peer group for nonprofit Executive Directors and CEOs in the Greater Pasadena area. Hosted by Jericho Road Pasadena\, the group offers leadership support\, professional development\, and connection with fellow nonprofit leaders.
URL:https://jrpasadena.org/event/pert-meeting-march2026/
ATTACH;FMTTYPE=image/png:https://jrpasadena.org/wp-content/uploads/2023/09/PERT-logo-text.png
END:VEVENT
BEGIN:VEVENT
DTSTART;TZID=America/Los_Angeles:20260219T093000
DTEND;TZID=America/Los_Angeles:20260225T163000
DTSTAMP:20260423T163331
CREATED:20260204T000355Z
LAST-MODIFIED:20260204T211330Z
UID:15259-1771493400-1772037000@jrpasadena.org
SUMMARY:Grantbuilder AI Bootcamp
DESCRIPTION:Tired of Starting Every Grant from Scratch?\n\n\n\nThis 2-day\, hands-on workshop for nonprofit professionals teaches you how to apply AI to our 5-Step\, 10 Building Blocks Grantbuilder™ approach to streamline and expedite the grant writing process. \n\n\n\n \n\n\n\nWhat you’ll do: \n\n\n\n\nCreate 10 reusable Building Blocks as a master template that can be easily updated for ongoing use\n\n\n\nLearn practical\, ethical ways to incorporate AI and tailor your content to meet funders’ requirements\n\n\n\nPrepare a professional quality\, submission-ready grant application that is highly competitive\n\n\n\n\n \n\n\n\nDay 1 (Thursday\, February 19\, 9:30am-1:30pm): Build your master template using the 10 Building Blocks framework: the essential data every funder requests (government\, foundation\, and corporate). Coffee\, water\, and snacks provided. \n\n\n\n \n\n\n\nDay 2 (Wednesday\, February 25\, 9:30am-4:30pm): Apply your template to a real grant and complete a submission-ready application. Coffee\, water\, and lunch provided. \n\n\n\n \n\n\n\nLocation: San Gabriel Valley (specific address provided upon registration confirmation) \n\n\n\n \n\n\n\nEach registration includes: \n\n\n\n\n2-day bootcamp\n\n\n\nCopy of The Grantbuilder: Step-by-Step Guide to Grant Writing Workbook\, 4th Edition\n\n\n\nDay 1 refreshments; Day 2 lunch\n\n\n\n\n \n\n\n\nEnrollment prerequisites: \n\n\n\n\nEstablished nonprofit with prior grant history\n\n\n\nAvailable to participate fully both days\n\n\n\nLaptop required for hands-on learning activities\n\n\n\nAccess to files from prior grants\, including narrative content (.docx format) and budget information (annual and program-specific)\n\n\n\n\n \n\n\n\nSmall group. Step-by-step guidance. Practical results! \n\n\n\n \n\n\n\nEnrollment is limited to a maximum of 30 individuals. \n\n\n\n \n\n\n\nSpecial pricing: This $1\,200 per person training is discounted to $120 through generous sponsorship provided by a collaboration between Jericho Road and The Grantbuilder LLC. 100% of registration fees will be allocated to support the important work of Jericho Road.
URL:https://jrpasadena.org/event/grantbuilder-ai-bootcamp/
ATTACH;FMTTYPE=image/jpeg:https://jrpasadena.org/wp-content/uploads/2026/02/Grantbuilder-Wide-Banner-wTM.avif
END:VEVENT
BEGIN:VEVENT
DTSTART;TZID=America/Los_Angeles:20260212T083000
DTEND;TZID=America/Los_Angeles:20260212T100000
DTSTAMP:20260423T163331
CREATED:20260211T200054Z
LAST-MODIFIED:20260211T200055Z
UID:15141-1770885000-1770890400@jrpasadena.org
SUMMARY:PERT "Meet the Funders" February Meeting
DESCRIPTION:Are there any funds left for Pasadena area charities? Is anyone funding programs other than fire relief? \n\n\n\nJoin us for our annual in-person meeting with Foundations that provide major funding to nonprofits in the greater Pasadena area. You will hear each organizaiton’s current funding priorities and learn the types of programs/projects they are focusing on today. And you will learn from others about funding successes they have had. \n\n\n\n Members are welcome to bring one guest to this meeting.
URL:https://jrpasadena.org/event/pert-meet-the-funders-february-meeting/
ATTACH;FMTTYPE=image/png:https://jrpasadena.org/wp-content/uploads/2023/09/PERT-logo-text.png
END:VEVENT
END:VCALENDAR